BEGIN:VCALENDAR
VERSION:2.0
PRODID:-//Living Open Source Foundation - ECPv6.15.13//NONSGML v1.0//EN
CALSCALE:GREGORIAN
METHOD:PUBLISH
X-WR-CALNAME:Living Open Source Foundation
X-ORIGINAL-URL:https://livingopensource.org
X-WR-CALDESC:Events for Living Open Source Foundation
REFRESH-INTERVAL;VALUE=DURATION:PT1H
X-Robots-Tag:noindex
X-PUBLISHED-TTL:PT1H
BEGIN:VTIMEZONE
TZID:Africa/Lusaka
BEGIN:STANDARD
TZOFFSETFROM:+0200
TZOFFSETTO:+0200
TZNAME:CAT
DTSTART:20240101T000000
END:STANDARD
END:VTIMEZONE
BEGIN:VEVENT
DTSTART;TZID=Africa/Lusaka:20250317T073000
DTEND;TZID=Africa/Lusaka:20250319T043000
DTSTAMP:20260420T164602
CREATED:20250117T071236Z
LAST-MODIFIED:20250117T074139Z
UID:4990-1742196600-1742358600@livingopensource.org
SUMMARY:LINUX | CONTAINERS | KUBERNETES FUNDAMENTALS TRAINING
DESCRIPTION:The course serves as a crucial milestone for anyone aiming to build a strong foundation in modern IT infrastructure and application deployment. This comprehensive program equips learners with essential skills in Linux system administration\, containerization technologies like Linux Containers\, and Kubernetes orchestration\, ensuring they are well-prepared for the challenges of contemporary software development and operations.  \nWhy take this course: \n1. Master Key Technologies \nLinux:  Powering over 90% of public cloud workloads and the backbone of servers\, routers and other devices worldwide\, Linux is essential for IT professionals. \nContainers: Revolutionizing software development and deployment\, containers provide consistency across environments\, from development to production. \nKubernetes: The industry-leading container orchestration platform\, critical for scaling and managing containerized applications efficiently. \n2. Career Advancement \n\nThese skills are in high demand across various industries\, such as IT\, DevOps\, Cloud Computing\, and Software Engineering.\nProficiency in Kubernetes and containerization opens doors to high-demand roles such as DevOps Engineer\, Cloud Engineer\, or Site Reliability Engineer\, all offering competitive salaries.\n\n3. Build Resilient Services \n\nMaster the skills to develop and deploy applications that are scalable\, portable\, and resilient\, delivering consistent reliability across a variety of environments.\n\n4. Future-Proof Your Skillset\n\nAs cloud-native architectures and microservices continue to gain prominence\, mastering these fundamentals positions you as a pivotal contributor in the ever-evolving tech landscape.\n\n5. Hands-On Learning\n\nAcquire hands-on experience with cutting-edge tools and technologies\, empowering you to address real-world challenges and contribute significant value to your organization.\n\nCourse Overview \nThis three-day professional course is tailored to equip participants with fundamental knowledge of Linux\, Containers\, and Kubernetes.  \nInstructor: \nLed by Mr. Sander van Vugt\, a best-selling author and renowned instructor with extensive expertise in Linux\, Automation and Kubernetes\, this course will delve into essential concepts and practical skills. \nLocation: \nThe course will be conducted onsite in Lusaka\, Zambia\, featuring an interactive format. \nCourse Dates: \n\nDay 1: 17th Mar 2025 – Linux Fundamentals\nDay 2: 18th Mar 2025 – Linux Admin Basics & Container Fundamentals\nDay 3: 19th Mar 2025 – Kubernetes Fundamentals\n\nFees & Enrollment: \n\nIndividuals: K5\,000 (Early bird assigned access to online courses and training materials)\nRegular: K6\,500 (after 17th Feb 2025)\nCorporate – (6 Participants): K40\,000 (assigned access to online courses and training materials)\n\nNote: \n\nCapacity: Intake limited to 20 participants\nFor companies with less than 6 staff members or need to add more members\, the individual pricing applies.\n\nCourse Materials:  \n\nCertification Exam coupon per person\nOnline Training and Access to Course Materials.\n\nCourse Requirements: \n\nLaptop: Participants must bring their own laptop capable of running a Linux virtual machine with at least 2GB of RAM. \nThe recommended virtualization platform is KVM on Linux or VMware Workstation.\n\nCourse Content \nDay 1: Linux Fundamentals \n\nLinux Distributions: An overview of popular Linux distributions\nInstalling Linux: Step-by-step installation and configuration of Linux\nWorking from the Bash Shell: Introduction to using the command line interface\nWhy Files Matter: Understanding the importance of files in Linux\nManaging Files: Techniques for file creation\, copying\, and deletion\nEditing Files: Basic text editing within the Linux environment\nFinding Files: Tools and commands for locating files on the system\n\nDay 2: Linux Admin Basics & Container Fundamentals \n\nManaging Software: Installing\, updating\, and removing software packages\nManaging Users: Creating and managing users and groups\nManaging Processes: Understanding and controlling processes in Linux\nManaging Permissions: Configuring and managing file permissions\nManaging Networking: Network configuration and troubleshooting in Linux\n\n\nWhat is a Container? Introduction to containerization\nRunning Containers on a Server: Docker and Podman: Overview of container technologies and usage\nManaging Images: How to work with Docker and Podman images\nBasic Container Management Tasks: Running\, stopping\, and managing containers\nInstalling Minikube: Setting up Minikube for local Kubernetes development\n\nDay 3: Kubernetes Fundamentals \n\nUnderstanding Kubernetes and the Kubernetes Ecosystem: Core concepts and architecture\nRunning Containers in Pods: Introduction to Kubernetes Pods and their role\nRunning Applications as Deployments: How to deploy applications on Kubernetes\nProviding Access to Containerized Applications: Exposing applications to external users\nProviding Persistent Storage: Managing storage in Kubernetes\nWorking with Configuration in a Decoupled Way: Best practices for managing Kubernetes configuration\nSetting up an On-Premise Kubernetes Cluster: Hands-on lab setting up a Kubernetes cluster in an on-prem environment\n\nRegistration and Payments: \nPlease contact us on +260 963 542 263 or email: training@livingopensource.org \nAbout Us \nThe Living Open Source Foundation (L.O.S.F) is a non-profit organization committed to promoting local economic growth by empowering individuals with education and expertise in Open Source Software (OSS). Founded in 2018 and headquartered in Lusaka\, Zambia\, L.O.S.F focuses on delivering affordable and accessible OSS training\, with a particular emphasis on underserved communities across Africa.  \nBy partnering with prominent and leading organizations including ITGilde\, The Linux Foundation\, Pearson Education\, and other key players in open-source technologies\, the foundation strives to bridge the digital divide and drive innovation.
URL:https://livingopensource.org/events/linux-containers-kubernetes-fundamentals-training/
LOCATION:On-Site
ATTACH;FMTTYPE=image/png:https://livingopensource.org/wp-content/uploads/2025/01/Living-Open-Source-F-4.png
ORGANIZER;CN="Living Open Source Foundation":MAILTO:events@livingopensource.org
END:VEVENT
END:VCALENDAR